BEGIN:VCALENDAR
VERSION:2.0
PRODID:-//Deshkan Ziibiing - ECPv6.15.20//NONSGML v1.0//EN
CALSCALE:GREGORIAN
METHOD:PUBLISH
X-ORIGINAL-URL:https://cottfn.com
X-WR-CALDESC:Events for Deshkan Ziibiing
REFRESH-INTERVAL;VALUE=DURATION:PT1H
X-Robots-Tag:noindex
X-PUBLISHED-TTL:PT1H
BEGIN:VTIMEZONE
TZID:America/Toronto
BEGIN:DAYLIGHT
TZOFFSETFROM:-0500
TZOFFSETTO:-0400
TZNAME:EDT
DTSTART:20250309T070000
END:DAYLIGHT
BEGIN:STANDARD
TZOFFSETFROM:-0400
TZOFFSETTO:-0500
TZNAME:EST
DTSTART:20251102T060000
END:STANDARD
BEGIN:DAYLIGHT
TZOFFSETFROM:-0500
TZOFFSETTO:-0400
TZNAME:EDT
DTSTART:20260308T070000
END:DAYLIGHT
BEGIN:STANDARD
TZOFFSETFROM:-0400
TZOFFSETTO:-0500
TZNAME:EST
DTSTART:20261101T060000
END:STANDARD
BEGIN:DAYLIGHT
TZOFFSETFROM:-0500
TZOFFSETTO:-0400
TZNAME:EDT
DTSTART:20270314T070000
END:DAYLIGHT
BEGIN:STANDARD
TZOFFSETFROM:-0400
TZOFFSETTO:-0500
TZNAME:EST
DTSTART:20271107T060000
END:STANDARD
END:VTIMEZONE
BEGIN:VEVENT
DTSTART;TZID=America/Toronto:20260228T093000
DTEND;TZID=America/Toronto:20260228T153000
DTSTAMP:20260422T045615
CREATED:20260206T200433Z
LAST-MODIFIED:20260206T200444Z
UID:10000038-1772271000-1772292600@cottfn.com
SUMMARY:Student First Aid & CPR Training Session
DESCRIPTION:Students are invited to join our first aid & CPR training session at portable #2 beside the Chippewa Community Centre. These skills are essential those looking to become babysitters as well as for employees\, first responders\, instructors and training partners. Training includes: – Cardiopulmonary resuscitation (CPR)– Bleeding control– Breathing emergencies– Injuries– Poisioning– Automated external defibrillator (AED) \n\n\n\nPlease note that space is limited to 10 students only\, so please register right away!To register\, please email etadmin@cottfn.com or call 519-962-8688 and include your name\, phone #\, and status #.
URL:https://cottfn.com/event/student-first-aid-cpr-training-session/
LOCATION:Portable-2 (beside the Chippewa Community Centre)
END:VEVENT
END:VCALENDAR