BEGIN:VCALENDAR
VERSION:2.0
PRODID:-//Deshkan Ziibiing - ECPv6.15.20//NONSGML v1.0//EN
CALSCALE:GREGORIAN
METHOD:PUBLISH
X-ORIGINAL-URL:https://cottfn.com
X-WR-CALDESC:Events for Deshkan Ziibiing
REFRESH-INTERVAL;VALUE=DURATION:PT1H
X-Robots-Tag:noindex
X-PUBLISHED-TTL:PT1H
BEGIN:VTIMEZONE
TZID:America/Toronto
BEGIN:DAYLIGHT
TZOFFSETFROM:-0500
TZOFFSETTO:-0400
TZNAME:EDT
DTSTART:20250309T070000
END:DAYLIGHT
BEGIN:STANDARD
TZOFFSETFROM:-0400
TZOFFSETTO:-0500
TZNAME:EST
DTSTART:20251102T060000
END:STANDARD
BEGIN:DAYLIGHT
TZOFFSETFROM:-0500
TZOFFSETTO:-0400
TZNAME:EDT
DTSTART:20260308T070000
END:DAYLIGHT
BEGIN:STANDARD
TZOFFSETFROM:-0400
TZOFFSETTO:-0500
TZNAME:EST
DTSTART:20261101T060000
END:STANDARD
BEGIN:DAYLIGHT
TZOFFSETFROM:-0500
TZOFFSETTO:-0400
TZNAME:EDT
DTSTART:20270314T070000
END:DAYLIGHT
BEGIN:STANDARD
TZOFFSETFROM:-0400
TZOFFSETTO:-0500
TZNAME:EST
DTSTART:20271107T060000
END:STANDARD
END:VTIMEZONE
BEGIN:VEVENT
DTSTART;TZID=America/Toronto:20260515T173000
DTEND;TZID=America/Toronto:20260515T190000
DTSTAMP:20260423T044735
CREATED:20260422T181604Z
LAST-MODIFIED:20260422T181604Z
UID:10000066-1778866200-1778871600@cottfn.com
SUMMARY:Recovery Support Group: Coffee Hour
DESCRIPTION:A safe and nuturing space for everyone in recovery and looking for support. Facilitated by Westover Treatment’s Mike Mcgilvery.We meet at the employment and training portable every Friday from 5:30pm – 7pmFor more information\, please contact Cynthia Tribe: 519-878-0165
URL:https://cottfn.com/event/recovery-support-group-coffee-hour/2026-05-15/
LOCATION:Employment and Training Portable\, 320 Chippewa Road\, Muncey\, N0L 1Y0
ORGANIZER;CN="Cynthia Tribe":MAILTO:ctribe@cottfn.com
END:VEVENT
BEGIN:VEVENT
DTSTART;TZID=America/Toronto:20260522T173000
DTEND;TZID=America/Toronto:20260522T190000
DTSTAMP:20260423T044735
CREATED:20260422T181604Z
LAST-MODIFIED:20260422T181604Z
UID:10000067-1779471000-1779476400@cottfn.com
SUMMARY:Recovery Support Group: Coffee Hour
DESCRIPTION:A safe and nuturing space for everyone in recovery and looking for support. Facilitated by Westover Treatment’s Mike Mcgilvery.We meet at the employment and training portable every Friday from 5:30pm – 7pmFor more information\, please contact Cynthia Tribe: 519-878-0165
URL:https://cottfn.com/event/recovery-support-group-coffee-hour/2026-05-22/
LOCATION:Employment and Training Portable\, 320 Chippewa Road\, Muncey\, N0L 1Y0
ORGANIZER;CN="Cynthia Tribe":MAILTO:ctribe@cottfn.com
END:VEVENT
BEGIN:VEVENT
DTSTART;TZID=America/Toronto:20260529T173000
DTEND;TZID=America/Toronto:20260529T190000
DTSTAMP:20260423T044735
CREATED:20260422T181604Z
LAST-MODIFIED:20260422T181604Z
UID:10000068-1780075800-1780081200@cottfn.com
SUMMARY:Recovery Support Group: Coffee Hour
DESCRIPTION:A safe and nuturing space for everyone in recovery and looking for support. Facilitated by Westover Treatment’s Mike Mcgilvery.We meet at the employment and training portable every Friday from 5:30pm – 7pmFor more information\, please contact Cynthia Tribe: 519-878-0165
URL:https://cottfn.com/event/recovery-support-group-coffee-hour/2026-05-29/
LOCATION:Employment and Training Portable\, 320 Chippewa Road\, Muncey\, N0L 1Y0
ORGANIZER;CN="Cynthia Tribe":MAILTO:ctribe@cottfn.com
END:VEVENT
BEGIN:VEVENT
DTSTART;TZID=America/Toronto:20260605T173000
DTEND;TZID=America/Toronto:20260605T190000
DTSTAMP:20260423T044735
CREATED:20260422T181604Z
LAST-MODIFIED:20260422T181604Z
UID:10000069-1780680600-1780686000@cottfn.com
SUMMARY:Recovery Support Group: Coffee Hour
DESCRIPTION:A safe and nuturing space for everyone in recovery and looking for support. Facilitated by Westover Treatment’s Mike Mcgilvery.We meet at the employment and training portable every Friday from 5:30pm – 7pmFor more information\, please contact Cynthia Tribe: 519-878-0165
URL:https://cottfn.com/event/recovery-support-group-coffee-hour/2026-06-05/
LOCATION:Employment and Training Portable\, 320 Chippewa Road\, Muncey\, N0L 1Y0
ORGANIZER;CN="Cynthia Tribe":MAILTO:ctribe@cottfn.com
END:VEVENT
BEGIN:VEVENT
DTSTART;TZID=America/Toronto:20260612T173000
DTEND;TZID=America/Toronto:20260612T190000
DTSTAMP:20260423T044735
CREATED:20260422T181604Z
LAST-MODIFIED:20260422T181604Z
UID:10000070-1781285400-1781290800@cottfn.com
SUMMARY:Recovery Support Group: Coffee Hour
DESCRIPTION:A safe and nuturing space for everyone in recovery and looking for support. Facilitated by Westover Treatment’s Mike Mcgilvery.We meet at the employment and training portable every Friday from 5:30pm – 7pmFor more information\, please contact Cynthia Tribe: 519-878-0165
URL:https://cottfn.com/event/recovery-support-group-coffee-hour/2026-06-12/
LOCATION:Employment and Training Portable\, 320 Chippewa Road\, Muncey\, N0L 1Y0
ORGANIZER;CN="Cynthia Tribe":MAILTO:ctribe@cottfn.com
END:VEVENT
BEGIN:VEVENT
DTSTART;TZID=America/Toronto:20260619T173000
DTEND;TZID=America/Toronto:20260619T190000
DTSTAMP:20260423T044735
CREATED:20260422T181604Z
LAST-MODIFIED:20260422T181604Z
UID:10000071-1781890200-1781895600@cottfn.com
SUMMARY:Recovery Support Group: Coffee Hour
DESCRIPTION:A safe and nuturing space for everyone in recovery and looking for support. Facilitated by Westover Treatment’s Mike Mcgilvery.We meet at the employment and training portable every Friday from 5:30pm – 7pmFor more information\, please contact Cynthia Tribe: 519-878-0165
URL:https://cottfn.com/event/recovery-support-group-coffee-hour/2026-06-19/
LOCATION:Employment and Training Portable\, 320 Chippewa Road\, Muncey\, N0L 1Y0
ORGANIZER;CN="Cynthia Tribe":MAILTO:ctribe@cottfn.com
END:VEVENT
BEGIN:VEVENT
DTSTART;TZID=America/Toronto:20260626T173000
DTEND;TZID=America/Toronto:20260626T190000
DTSTAMP:20260423T044735
CREATED:20260422T181604Z
LAST-MODIFIED:20260422T181604Z
UID:10000072-1782495000-1782500400@cottfn.com
SUMMARY:Recovery Support Group: Coffee Hour
DESCRIPTION:A safe and nuturing space for everyone in recovery and looking for support. Facilitated by Westover Treatment’s Mike Mcgilvery.We meet at the employment and training portable every Friday from 5:30pm – 7pmFor more information\, please contact Cynthia Tribe: 519-878-0165
URL:https://cottfn.com/event/recovery-support-group-coffee-hour/2026-06-26/
LOCATION:Employment and Training Portable\, 320 Chippewa Road\, Muncey\, N0L 1Y0
ORGANIZER;CN="Cynthia Tribe":MAILTO:ctribe@cottfn.com
END:VEVENT
END:VCALENDAR